BEGIN:VCALENDAR
VERSION:2.0
PRODID:-//AfriGIS - ECPv6.15.20//NONSGML v1.0//EN
CALSCALE:GREGORIAN
METHOD:PUBLISH
X-ORIGINAL-URL:https://www.afrigis.co.za
X-WR-CALDESC:Events for AfriGIS
REFRESH-INTERVAL;VALUE=DURATION:PT1H
X-Robots-Tag:noindex
X-PUBLISHED-TTL:PT1H
BEGIN:VTIMEZONE
TZID:UTC
BEGIN:STANDARD
TZOFFSETFROM:+0000
TZOFFSETTO:+0000
TZNAME:UTC
DTSTART:20250101T000000
END:STANDARD
END:VTIMEZONE
BEGIN:VEVENT
DTSTART;TZID=UTC:20260319T110000
DTEND;TZID=UTC:20260319T120000
DTSTAMP:20260420T143340
CREATED:20260325T075920Z
LAST-MODIFIED:20260325T080602Z
UID:24797-1773918000-1773921600@www.afrigis.co.za
SUMMARY:Resolve Water Webinar: Join us
DESCRIPTION:[vc_row][vc_column][/vc_column][vc_column][vc_column_text css=””]Over the past year Resolve Water\, powered by AfriGIS\, has been developing an intelligence capability focused on translating water system stress into practical insight for finance and industry. Through this work\, and through engagement with financial institutions\, development finance partners and large water users\, a clearer picture is beginning to emerge of how water system conditions are affecting operational stability and financial exposure in South Africa’s real economy. \nOne theme is becoming increasingly clear: water risk in South Africa is increasingly structural rather than event driven. Climate variability\, infrastructure fragility\, catchment pressure and institutional constraints are beginning to affect operational stability\, investment decisions and the resilience of water-dependent sectors. \nWe would like to invite you to a small industry session where we will share insights emerging from this work and discuss how spatial intelligence can help organisations better understand their exposure. \nThe session will explore: \n\nHow water system stress is translating into operational and financial risk\nEmerging patterns across sectors including agriculture\, mining and industry\nThe role of spatial intelligence in diagnosing exposure and informing resilience responses\nA demonstration of how Resolve Water is currently progressing\nOpportunities for pilot applications with financial institutions and large water users\n\n[/vc_column_text][vc_column_text css=””]Live Webinar \nVenue: Online\nDate: 19 March 2026\nTime: 11:00 AM – 11:45 AM SAST[/vc_column_text][vc_single_image image=”24798″ img_size=”1200×524″ css=””]\n	\n						\n			REGISTER HERE		\n					\n[vc_column_text css=””]\nPlease be on the lookout for confirmation of attendance. \nWe hope you are able to join the discussion. \nKind regards \nThe Resolve Water Team \nhttps://www.afrigis.co.za/solutions/resolve-water/ \n[/vc_column_text][/vc_column][/vc_row]
URL:https://www.afrigis.co.za/event/resolve-water-webinar-join-us/
LOCATION:Webinar
ATTACH;FMTTYPE=image/webp:https://www.afrigis.co.za/wp-content/uploads/2026/03/Resolve-water-webinar-image.webp
END:VEVENT
END:VCALENDAR